BEGIN:VCALENDAR
VERSION:2.0
PRODID:-//ChamberMaster//Event Calendar 2.0//EN
METHOD:PUBLISH
X-PUBLISHED-TTL:P3D
REFRESH-INTERVAL:P3D
CALSCALE:GREGORIAN
BEGIN:VEVENT
DTSTART;VALUE=DATE:20240419
DTEND;VALUE=DATE:20240420
TRANSP:TRANSPARENT
X-MICROSOFT-CDO-ALLDAYEVENT:TRUE
SUMMARY:Yogi Bear's Happy Vintage Camper Weekend
DESCRIPTION:Yogi Bear's Happy Vintage Camper Weekend\n\nEnjoy a weekend filled with games\, tournaments\, classic car show\, vintage camper open house\, & sock hop!
X-ALT-DESC;FMTTYPE=text/html:Yogi Bear&#39\;s Happy Vintage Camper Weekend<br />\nEnjoy a weekend filled with games\, tournaments\, classic car show\, vintage camper open house\, &amp\; sock hop!
LOCATION:Yogi Bear's at Jellystone Park 626 Richard Wright Road Tabor City\, NC 28463
UID:e.2482.6970
SEQUENCE:3
DTSTAMP:20260421T004949Z
URL:https://members.thecolumbuschamber.com/events/details/yogi-bear-s-happy-vintage-camper-weekend-6970
END:VEVENT

END:VCALENDAR
