BEGIN:VCALENDAR
VERSION:2.0
PRODID:-//ChamberMaster//Event Calendar 2.0//EN
METHOD:PUBLISH
X-PUBLISHED-TTL:P3D
REFRESH-INTERVAL:P3D
CALSCALE:GREGORIAN
BEGIN:VEVENT
DTSTART;VALUE=DATE:20230729
DTEND;VALUE=DATE:20230730
TRANSP:TRANSPARENT
X-MICROSOFT-CDO-ALLDAYEVENT:TRUE
SUMMARY:Xtreme Kustoms Car Show
DESCRIPTION:Registration 9am-11am\n\nShow 11am-3pm\n\nJudging completed 12:30pm\n\nAwards 2:30pm\n\nPre-register by calling 910-918-2501 or visit www.veteransparkofamerica.com
X-ALT-DESC;FMTTYPE=text/html:Registration 9am-11am<br />\nShow 11am-3pm<br />\nJudging completed 12:30pm<br />\nAwards 2:30pm<br />\nPre-register by calling 910-918-2501 or visit www.veteransparkofamerica.com
LOCATION:Cruzer's Drive Thru 807 Jefferson Street Whiteville\, NC 28472
UID:e.2482.6770
SEQUENCE:3
DTSTAMP:20260421T154701Z
URL:https://members.thecolumbuschamber.com/events/details/xtreme-kustoms-car-show-6770
END:VEVENT

END:VCALENDAR
