BEGIN:VCALENDAR
VERSION:2.0
PRODID:-//ChamberMaster//Event Calendar 2.0//EN
METHOD:PUBLISH
X-PUBLISHED-TTL:P3D
REFRESH-INTERVAL:P3D
CALSCALE:GREGORIAN
BEGIN:VEVENT
DTSTART;VALUE=DATE:20241018
DTEND;VALUE=DATE:20241019
TRANSP:TRANSPARENT
X-MICROSOFT-CDO-ALLDAYEVENT:TRUE
SUMMARY:Wonder of Pink
DESCRIPTION:Wonder of Pink\n\nA free 3D screening mammogram event
X-ALT-DESC;FMTTYPE=text/html:Wonder of Pink<br />\nA free 3D screening mammogram event
LOCATION:Columbus Regional Healthcare System 500 Jeffeerson Street Whiteville\, NC 28472
UID:e.2482.7063
SEQUENCE:3
DTSTAMP:20260425T221803Z
URL:https://members.thecolumbuschamber.com/events/details/wonder-of-pink-7063
END:VEVENT

END:VCALENDAR
