BEGIN:VCALENDAR
VERSION:2.0
PRODID:-//ChamberMaster//Event Calendar 2.0//EN
METHOD:PUBLISH
X-PUBLISHED-TTL:P3D
REFRESH-INTERVAL:P3D
CALSCALE:GREGORIAN
BEGIN:VEVENT
DTSTART:20201206T200000Z
DTEND:20201206T213000Z
X-MICROSOFT-CDO-ALLDAYEVENT:FALSE
SUMMARY:Whiteville Christmas Parade
DESCRIPTION:Peace Baptist Church will be hosting the Whiteville Christmas Parade on Sunday\, December 6\, 2020 at 3:00 p.m. with line up at 2:00 p.m. \n\n\n\nClick here for parade entry form.
X-ALT-DESC;FMTTYPE=text/html:Peace Baptist Church will be hosting the Whiteville Christmas Parade on Sunday\, December 6\, 2020 at 3:00 p.m. with line up at 2:00 p.m.&nbsp\;<br />\n<br />\nClick here for parade entry form.
LOCATION:Line up on Lee Street and proceed downtown on Madison Street Whiteville Deadline for Entries: Monday\, November 30\, 2020
UID:e.2482.6383
SEQUENCE:3
DTSTAMP:20260420T022701Z
URL:https://members.thecolumbuschamber.com/events/details/whiteville-christmas-parade-6383
END:VEVENT

END:VCALENDAR
