BEGIN:VCALENDAR
VERSION:2.0
PRODID:-//ChamberMaster//Event Calendar 2.0//EN
METHOD:PUBLISH
X-PUBLISHED-TTL:P3D
REFRESH-INTERVAL:P3D
CALSCALE:GREGORIAN
BEGIN:VEVENT
DTSTART:20231025T170000Z
DTEND:20231025T180000Z
X-MICROSOFT-CDO-ALLDAYEVENT:FALSE
SUMMARY:"Web-Cutting" - NC Museum of Natural Sciences at Whiteville
DESCRIPTION:Please join us for a "Web-Cutting" on Wednesday\, October 25\, 2023 at 1:00 p.m.
X-ALT-DESC;FMTTYPE=text/html:Please join us for a &quot\;Web-Cutting&quot\; on Wednesday\, October 25\, 2023 at 1:00 p.m.
LOCATION:NC Museum of Natural Sciences at Whiteville 415 South Madison Street Whiteville\, NC 28472
UID:e.2482.6861
SEQUENCE:3
DTSTAMP:20260423T035946Z
URL:https://members.thecolumbuschamber.com/events/details/web-cutting-nc-museum-of-natural-sciences-at-whiteville-6861
END:VEVENT

END:VCALENDAR
