BEGIN:VCALENDAR
VERSION:2.0
PRODID:-//ChamberMaster//Event Calendar 2.0//EN
METHOD:PUBLISH
X-PUBLISHED-TTL:P3D
REFRESH-INTERVAL:P3D
CALSCALE:GREGORIAN
BEGIN:VEVENT
DTSTART;VALUE=DATE:20251017
DTEND;VALUE=DATE:20251020
TRANSP:TRANSPARENT
X-MICROSOFT-CDO-ALLDAYEVENT:TRUE
SUMMARY:Waccamaw Siouan Pow Wow
DESCRIPTION:53rd Annual Waccamaw Siouan PowWow
X-ALT-DESC;FMTTYPE=text/html:53rd Annual Waccamaw Siouan PowWow
LOCATION:7239 Old Lake Road Bolton\, NC 28423
UID:e.2482.7165
SEQUENCE:3
DTSTAMP:20260422T202108Z
URL:https://members.thecolumbuschamber.com/events/details/waccamaw-siouan-pow-wow-7165
END:VEVENT

END:VCALENDAR
