BEGIN:VCALENDAR
VERSION:2.0
PRODID:-//ChamberMaster//Event Calendar 2.0//EN
METHOD:PUBLISH
X-PUBLISHED-TTL:P3D
REFRESH-INTERVAL:P3D
CALSCALE:GREGORIAN
BEGIN:VEVENT
DTSTART:20231111T160000Z
DTEND:20231111T170000Z
X-MICROSOFT-CDO-ALLDAYEVENT:FALSE
SUMMARY:Veterans Celebration Parade
DESCRIPTION:Veterans Celebration Parade\n\nHonoring All Who Served
X-ALT-DESC;FMTTYPE=text/html:Veterans Celebration Parade<br />\nHonoring All Who Served
LOCATION:Downtown Whiteville
UID:e.2482.6754
SEQUENCE:3
DTSTAMP:20260420T001155Z
URL:https://members.thecolumbuschamber.com/events/details/veterans-celebration-parade-6754
END:VEVENT

END:VCALENDAR
