BEGIN:VCALENDAR
VERSION:2.0
PRODID:-//ChamberMaster//Event Calendar 2.0//EN
METHOD:PUBLISH
X-PUBLISHED-TTL:P3D
REFRESH-INTERVAL:P3D
CALSCALE:GREGORIAN
BEGIN:VEVENT
DTSTART:20230706T163000Z
DTEND:20230706T170000Z
X-MICROSOFT-CDO-ALLDAYEVENT:FALSE
SUMMARY:"Veteran Owned & Operated" Ribbon Cutting - All American Fine Coins Currency and Collectibles
DESCRIPTION:" Veteran Owned & Operated"\n\nYou're invited to attend a Grand Opening/Ribbon Cutting for All American Fine Coins Currency and Collectibles located at 622 S. Madison Street\, Whiteville\, NC.
X-ALT-DESC;FMTTYPE=text/html:&quot\; Veteran Owned &amp\; Operated&quot\;<br />\nYou&#39\;re invited to attend a Grand Opening/Ribbon Cutting for All American Fine Coins Currency and Collectibles located at 622 S. Madison Street\, Whiteville\, NC.
LOCATION:All American Fine Coins Currency and Collectibles 622 South Madison Street Whiteville\, NC 28472
UID:e.2482.6767
SEQUENCE:3
DTSTAMP:20260421T155214Z
URL:https://members.thecolumbuschamber.com/events/details/veteran-owned-operated-ribbon-cutting-all-american-fine-coins-currency-and-collectibles-6767
END:VEVENT

END:VCALENDAR
