BEGIN:VCALENDAR
VERSION:2.0
PRODID:-//ChamberMaster//Event Calendar 2.0//EN
METHOD:PUBLISH
X-PUBLISHED-TTL:P3D
REFRESH-INTERVAL:P3D
CALSCALE:GREGORIAN
BEGIN:VEVENT
DTSTART:20231031T220000Z
DTEND:20231101T003000Z
X-MICROSOFT-CDO-ALLDAYEVENT:FALSE
SUMMARY:Trunk or Treat Safe Nite For Kids
DESCRIPTION:?? SCC's Trunk or Treat Safe Night for Kids! ?? Date: Tuesday\, October 31st\, 2023 Time: 6pm-8:30pm Location: SCC Front Lawn Southeastern Community College\, H.E.A.R.T.S. Foundation & Columbus County Parks & Recreation have teamed up. ?? Join Us for Spooky Fun! ?? Trunk or Treating: Explore decorated trunks filled with candy. ?? Games ?? Costume Contest ?? Food Trucks Family-Friendly & Safe SCC's commitment to our community shines through. Join us for a memorable Halloween night!
X-ALT-DESC;FMTTYPE=text/html:?? SCC&#39\;s Trunk or Treat Safe Night for Kids! ?? Date: Tuesday\, October 31st\, 2023 Time: 6pm-8:30pm Location: SCC Front Lawn Southeastern Community College\, H.E.A.R.T.S. Foundation &amp\; Columbus County Parks &amp\; Recreation have teamed up. ?? Join Us for Spooky Fun! ?? Trunk or Treating: Explore decorated trunks filled with candy. ?? Games ?? Costume Contest ?? Food Trucks Family-Friendly &amp\; Safe SCC&#39\;s commitment to our community shines through. Join us for a memorable Halloween night!
LOCATION:Southeastern Community College
UID:e.2482.6817
SEQUENCE:3
DTSTAMP:20260423T040549Z
URL:https://members.thecolumbuschamber.com/events/details/trunk-or-treat-safe-nite-for-kids-6817
END:VEVENT

END:VCALENDAR
