BEGIN:VCALENDAR
VERSION:2.0
PRODID:-//ChamberMaster//Event Calendar 2.0//EN
METHOD:PUBLISH
X-PUBLISHED-TTL:P3D
REFRESH-INTERVAL:P3D
CALSCALE:GREGORIAN
BEGIN:VEVENT
DTSTART:20231029T220000Z
DTEND:20231029T233000Z
X-MICROSOFT-CDO-ALLDAYEVENT:FALSE
SUMMARY:Trunk or Treat
DESCRIPTION:Piney Forest Baptist Church presents Trunk or Treat\n\nJoin us for fun\, games and prizes!\n\n\n\nHot Dogs will be served
X-ALT-DESC;FMTTYPE=text/html:Piney Forest Baptist Church presents Trunk or Treat<br />\nJoin us for fun\, games and prizes!<br />\n<br />\nHot Dogs will be served
LOCATION:Piney Forest Baptist Church 4509 Andrew Jackson Highway Road SW Chadbourn\,NC 28431
UID:e.2482.6854
SEQUENCE:3
DTSTAMP:20260423T035255Z
URL:https://members.thecolumbuschamber.com/events/details/trunk-or-treat-6854
END:VEVENT

END:VCALENDAR
