BEGIN:VCALENDAR
VERSION:2.0
PRODID:-//ChamberMaster//Event Calendar 2.0//EN
METHOD:PUBLISH
X-PUBLISHED-TTL:P3D
REFRESH-INTERVAL:P3D
CALSCALE:GREGORIAN
BEGIN:VEVENT
DTSTART:20230818T220000Z
DTEND:20230821T030000Z
X-MICROSOFT-CDO-ALLDAYEVENT:FALSE
SUMMARY:Thomas Linton RODEO at Lake Waccamaw
DESCRIPTION:Bull Riding - Calf Roping - Saddle Bronc Riding - Team Roping\n\nBarrel Racing - Steer Wrestling - Breakaway Roping - Bareback Riding
X-ALT-DESC;FMTTYPE=text/html:Bull Riding - Calf Roping - Saddle Bronc Riding - Team Roping<br />\nBarrel Racing - Steer Wrestling - Breakaway Roping - Bareback Riding<br />\n&nbsp\;
LOCATION:Thomas Linton Rodeo BTS Arena Bill Thompson Lane Lake Waccamaw\, NC 28450
UID:e.2482.6779
SEQUENCE:3
DTSTAMP:20260421T171856Z
URL:https://members.thecolumbuschamber.com/events/details/thomas-linton-rodeo-at-lake-waccamaw-6779
END:VEVENT

END:VCALENDAR
