BEGIN:VCALENDAR
VERSION:2.0
PRODID:-//ChamberMaster//Event Calendar 2.0//EN
METHOD:PUBLISH
X-PUBLISHED-TTL:P3D
REFRESH-INTERVAL:P3D
CALSCALE:GREGORIAN
BEGIN:VEVENT
DTSTART:20231201T200000Z
DTEND:20231202T000000Z
X-MICROSOFT-CDO-ALLDAYEVENT:FALSE
SUMMARY:The Christmas Nativity Journey Day 1
DESCRIPTION:Boys and Girls Homes of North Carolina presents The Christmas Nativity Journey with 3 locations this year Dec. 1-3 on BGHNC campus and Lake Waccamaw Depot Museum. Come see hundreds of Nativity scenes large and small. Donations gratefully accepted for admission. You can register ahead of time at this link. https://boysandgirlshomes.harnessgiving.org/campaigns/12638
X-ALT-DESC;FMTTYPE=text/html:Boys and Girls Homes of North Carolina presents The Christmas Nativity Journey with 3 locations this year Dec. 1-3 on BGHNC campus and Lake Waccamaw Depot Museum. Come see hundreds of Nativity scenes large and small. Donations gratefully accepted for admission. You can register ahead of time at this link. https://boysandgirlshomes.harnessgiving.org/campaigns/12638
LOCATION:Boys and Girls Homes - 400 Flemington Drive\, Lake Waccamaw Lake Waccamaw Depot Museum
UID:e.2482.6868
SEQUENCE:3
DTSTAMP:20260420T000846Z
URL:https://members.thecolumbuschamber.com/events/details/the-christmas-nativity-journey-day-1-6868
END:VEVENT

END:VCALENDAR
