BEGIN:VCALENDAR
VERSION:2.0
PRODID:-//ChamberMaster//Event Calendar 2.0//EN
METHOD:PUBLISH
X-PUBLISHED-TTL:P3D
REFRESH-INTERVAL:P3D
CALSCALE:GREGORIAN
BEGIN:VEVENT
DTSTART:20230929T233000Z
DTEND:20230930T013000Z
X-MICROSOFT-CDO-ALLDAYEVENT:FALSE
SUMMARY:The Beat Goes On - Cheer Tribute
DESCRIPTION:CHER is\, in short\, incomparable. And now\, she is uncannily and perfectly captured in a Broadway-style live stage show called "The Beat Goes On" by Legends in Concert artist/singer/actress Lisa McClowry. Lisa is the main attraction of this theatrical production. Why? Because she has EVERY aspect of playing CHER down pat: the singing and speaking voice\, the walk\, the talk\, the Bob Mackie-styled costumes\, the makeup\, the mannerisms. Nothing is overlooked.
X-ALT-DESC;FMTTYPE=text/html:CHER is\, in short\, incomparable. And now\, she is uncannily and perfectly captured in a Broadway-style live stage show called &ldquo\;The Beat Goes On&rdquo\; by Legends in Concert artist/singer/actress Lisa McClowry. Lisa is the main attraction of this theatrical production. Why? Because she has EVERY aspect of playing CHER down pat: the singing and speaking voice\, the walk\, the talk\, the Bob Mackie-styled costumes\, the makeup\, the mannerisms. Nothing is overlooked.
LOCATION:Givens Performing Arts Center
UID:e.2482.6824
SEQUENCE:3
DTSTAMP:20260423T050826Z
URL:https://members.thecolumbuschamber.com/events/details/the-beat-goes-on-cheer-tribute-6824
END:VEVENT

END:VCALENDAR
