BEGIN:VCALENDAR
VERSION:2.0
PRODID:-//ChamberMaster//Event Calendar 2.0//EN
METHOD:PUBLISH
X-PUBLISHED-TTL:P3D
REFRESH-INTERVAL:P3D
CALSCALE:GREGORIAN
BEGIN:VEVENT
DTSTART;VALUE=DATE:20230603
DTEND;VALUE=DATE:20230604
TRANSP:TRANSPARENT
X-MICROSOFT-CDO-ALLDAYEVENT:TRUE
SUMMARY:TEE IT UP FOR VETERANS
DESCRIPTION:Tee It Up For Veterans Golf Tournament will be held at Diamondback Golf Club. We will have food\, drinks\, prizes\, and raffles. Good Fellowship and Good Times.
X-ALT-DESC;FMTTYPE=text/html:Tee It Up For Veterans Golf Tournament will be held at Diamondback Golf Club. We will have food\, drinks\, prizes\, and raffles. Good Fellowship and Good Times.
LOCATION:Diamondback Golf Club 615 Log Cabin Road Loris\, SC 29569
UID:e.2482.6704
SEQUENCE:3
DTSTAMP:20260421T141950Z
URL:https://members.thecolumbuschamber.com/events/details/tee-it-up-for-veterans-6704
END:VEVENT

END:VCALENDAR
