BEGIN:VCALENDAR
VERSION:2.0
PRODID:-//ChamberMaster//Event Calendar 2.0//EN
METHOD:PUBLISH
X-PUBLISHED-TTL:P3D
REFRESH-INTERVAL:P3D
CALSCALE:GREGORIAN
BEGIN:VEVENT
DTSTART:20231026T220000Z
DTEND:20231027T010000Z
X-MICROSOFT-CDO-ALLDAYEVENT:FALSE
SUMMARY:Taste of Tabor
DESCRIPTION:The NC Yam Festival invites you to the Taste of Tabor on Thursday\, October 26\, 2023 at the Sunnyfield Equesterian Farm.
X-ALT-DESC;FMTTYPE=text/html:The NC Yam Festival invites you to the Taste of Tabor on Thursday\, October 26\, 2023 at the Sunnyfield Equesterian Farm.
LOCATION:Sunnyfield Farms 1861 Ten Mile Road Tabor City\, NC 28463
UID:e.2482.6753
SEQUENCE:3
DTSTAMP:20260423T035453Z
URL:https://members.thecolumbuschamber.com/events/details/taste-of-tabor-6753
END:VEVENT

END:VCALENDAR
