BEGIN:VCALENDAR
VERSION:2.0
PRODID:-//ChamberMaster//Event Calendar 2.0//EN
METHOD:PUBLISH
X-PUBLISHED-TTL:P3D
REFRESH-INTERVAL:P3D
CALSCALE:GREGORIAN
BEGIN:VEVENT
DTSTART:20230928T180000Z
DTEND:20230928T203000Z
X-MICROSOFT-CDO-ALLDAYEVENT:FALSE
SUMMARY:Tailgate for Prostate
DESCRIPTION:Tailgate for Prostate\n\nTackle Prostate Cancer - Free Prostate Exams\, Free PSA Blood Work\, Prostate Health Education\, Free Tailgate Food\n\nCarolina Panthers Tickets Drawing
X-ALT-DESC;FMTTYPE=text/html:Tailgate for Prostate<br />\nTackle Prostate Cancer - Free Prostate Exams\, Free PSA Blood Work\, Prostate Health Education\, Free Tailgate Food<br />\nCarolina Panthers Tickets Drawing
LOCATION:Advanced Urology 320 Jefferson Street Whiteville\, NC 28472
UID:e.2482.6834
SEQUENCE:3
DTSTAMP:20260423T050442Z
URL:https://members.thecolumbuschamber.com/events/details/tailgate-for-prostate-6834
END:VEVENT

END:VCALENDAR
