BEGIN:VCALENDAR
VERSION:2.0
PRODID:-//ChamberMaster//Event Calendar 2.0//EN
METHOD:PUBLISH
X-PUBLISHED-TTL:P3D
REFRESH-INTERVAL:P3D
CALSCALE:GREGORIAN
BEGIN:VEVENT
DTSTART:20231207T230000Z
DTEND:20231208T003000Z
X-MICROSOFT-CDO-ALLDAYEVENT:FALSE
SUMMARY:Tabor City Twinkle Town's Christmas Parade
DESCRIPTION:You're invited to attend the Tabor City Twinkle Town's Christmas Parade on Thursday\, December  7\, 2023 at 6:00 p.m.  Contact 910- 653-4141 or 910-653-3149 to enter
X-ALT-DESC;FMTTYPE=text/html:You&#39\;re invited to attend the Tabor City Twinkle Town&#39\;s Christmas Parade on Thursday\, December&nbsp\; 7\, 2023 at 6:00 p.m. &nbsp\;Contact 910- 653-4141 or 910-653-3149 to enter
LOCATION:Downtown Tabor City Tabor City\, NC After Christmas Parade the Tabor City Chamber invites you to attend the Tree Lighting event around 7:00 p.m. The event will be held behind the Town Gate in the parking lot of the Tabor City Public Library.
UID:e.2482.6762
SEQUENCE:3
DTSTAMP:20260420T001249Z
URL:https://members.thecolumbuschamber.com/events/details/tabor-city-twinkle-town-s-christmas-parade-6762
END:VEVENT

END:VCALENDAR
