BEGIN:VCALENDAR
VERSION:2.0
PRODID:-//ChamberMaster//Event Calendar 2.0//EN
METHOD:PUBLISH
X-PUBLISHED-TTL:P3D
REFRESH-INTERVAL:P3D
CALSCALE:GREGORIAN
BEGIN:VEVENT
DTSTART:20230807T170000Z
DTEND:20230807T220000Z
X-MICROSOFT-CDO-ALLDAYEVENT:FALSE
SUMMARY:Tabor City Emergency Blood Drive
DESCRIPTION:Tabor City Emergency Blood  Drive\n\nBe Someone's Hero Give Blood
X-ALT-DESC;FMTTYPE=text/html:Tabor City Emergency Blood&nbsp\; Drive<br />\nBe Someone&#39\;s Hero Give Blood
LOCATION:Tabor City Rescue Squad 609 East 5th Street Tabor City\, NC 28463
UID:e.2482.6797
SEQUENCE:3
DTSTAMP:20260421T172451Z
URL:https://members.thecolumbuschamber.com/events/details/tabor-city-emergency-blood-drive-6797
END:VEVENT

END:VCALENDAR
