BEGIN:VCALENDAR
VERSION:2.0
PRODID:-//ChamberMaster//Event Calendar 2.0//EN
METHOD:PUBLISH
X-PUBLISHED-TTL:P3D
REFRESH-INTERVAL:P3D
CALSCALE:GREGORIAN
BEGIN:VEVENT
DTSTART:20231111T160000Z
DTEND:20231111T210000Z
X-MICROSOFT-CDO-ALLDAYEVENT:FALSE
SUMMARY:St. James Waccamaw Siouan Festival
DESCRIPTION:You are invited to celebrate  our community and heritage at our annual festival!\n\nFood - 11:00 am\n\nParade - 12:00 noon\, Line uo at 11:30 am\n\nVendors - 12 noon - 4 pm\n\nNative American Dancing\, Church Group Singers & more!
X-ALT-DESC;FMTTYPE=text/html:You are invited to celebrate&nbsp\; our community and heritage at our annual festival!<br />\nFood - 11:00 am<br />\nParade - 12:00 noon\, Line uo at 11:30 am<br />\nVendors - 12 noon - 4 pm<br />\nNative American Dancing\, Church Group Singers &amp\; more!
LOCATION:St. James Fire Department 3202 Old Northeast Road Lake Waccamaw\, NC 28450
UID:e.2482.6856
SEQUENCE:3
DTSTAMP:20260419T193901Z
URL:https://members.thecolumbuschamber.com/events/details/st-james-waccamaw-siouan-festival-6856
END:VEVENT

END:VCALENDAR
