BEGIN:VCALENDAR
VERSION:2.0
PRODID:-//ChamberMaster//Event Calendar 2.0//EN
METHOD:PUBLISH
X-PUBLISHED-TTL:P3D
REFRESH-INTERVAL:P3D
CALSCALE:GREGORIAN
BEGIN:VEVENT
DTSTART:20221206T003000Z
DTEND:20221206T020000Z
X-MICROSOFT-CDO-ALLDAYEVENT:FALSE
SUMMARY:Southeastern Oratorio Society Celebrating its 50th Anniversary
DESCRIPTION:Southeastern Oratorio Society Celebrating its 50th Anniversary Performs Handel's "Messiah"
X-ALT-DESC;FMTTYPE=text/html:Southeastern Oratorio Society Celebrating its 50th Anniversary Performs Handel&#39\;s &quot\;Messiah&quot\;&nbsp\;
LOCATION:First Presbyterian Church 511 North Thompson Street Whiteville\, NC 28472
UID:e.2482.6608
SEQUENCE:3
DTSTAMP:20260425T134548Z
URL:https://members.thecolumbuschamber.com/events/details/southeastern-oratorio-society-celebrating-its-50th-anniversary-6608
END:VEVENT

END:VCALENDAR
