BEGIN:VCALENDAR
VERSION:2.0
PRODID:-//ChamberMaster//Event Calendar 2.0//EN
METHOD:PUBLISH
X-PUBLISHED-TTL:P3D
REFRESH-INTERVAL:P3D
CALSCALE:GREGORIAN
BEGIN:VEVENT
DTSTART:20230731T180000Z
DTEND:20230731T183000Z
X-MICROSOFT-CDO-ALLDAYEVENT:FALSE
SUMMARY:Southeastern Community College Ribbon Cutting
DESCRIPTION:Southeatern Community College Ribbon Cutting\n\nWelding Trailer
X-ALT-DESC;FMTTYPE=text/html:Southeatern Community College Ribbon Cutting<br />\nWelding Trailer
LOCATION:Southeastern Community College T-Building
UID:e.2482.6775
SEQUENCE:3
DTSTAMP:20260421T154742Z
URL:https://members.thecolumbuschamber.com/events/details/southeastern-community-college-ribbon-cutting-6775
END:VEVENT

END:VCALENDAR
