BEGIN:VCALENDAR
VERSION:2.0
PRODID:-//ChamberMaster//Event Calendar 2.0//EN
METHOD:PUBLISH
X-PUBLISHED-TTL:P3D
REFRESH-INTERVAL:P3D
CALSCALE:GREGORIAN
BEGIN:VEVENT
DTSTART:20230606T210000Z
DTEND:20230606T230000Z
X-MICROSOFT-CDO-ALLDAYEVENT:FALSE
SUMMARY:Small Business Big Vision
DESCRIPTION:Small Business Big Vision will be co-hosted by the Chamber and SCC Small Business Center at The Spillway on June 6\, 2023.
X-ALT-DESC;FMTTYPE=text/html:Small Business Big Vision will be co-hosted by the Chamber and SCC Small Business Center at The Spillway on June 6\, 2023.&nbsp\;
LOCATION:The Spillway 1252 Mill Pond Road Whiteville\, NC 28472
UID:e.2482.6679
SEQUENCE:3
DTSTAMP:20260421T142011Z
URL:https://members.thecolumbuschamber.com/events/details/small-business-big-vision-6679
END:VEVENT

END:VCALENDAR
