BEGIN:VCALENDAR
VERSION:2.0
PRODID:-//ChamberMaster//Event Calendar 2.0//EN
METHOD:PUBLISH
X-PUBLISHED-TTL:P3D
REFRESH-INTERVAL:P3D
CALSCALE:GREGORIAN
BEGIN:VEVENT
DTSTART:20230204T140000Z
DTEND:20230204T190000Z
X-MICROSOFT-CDO-ALLDAYEVENT:FALSE
SUMMARY:SCC Winter Wonderland
DESCRIPTION:SCC Winter Wonderland hosted by SCC Ambassadors\n\nCome out to SCC and enjoy a fun "winter lap"\, frosty freeze fundraiser\, games\, food trucks\, live music from Kindred featuring Ryleigh Madison and Dustin Chapman\, and more.
X-ALT-DESC;FMTTYPE=text/html:SCC Winter Wonderland hosted by SCC Ambassadors<br />\nCome out to SCC and enjoy a fun &quot\;winter lap&quot\;\, frosty freeze fundraiser\, games\, food trucks\, live music from Kindred featuring Ryleigh Madison and Dustin Chapman\, and more.
LOCATION:SCC Outdoor event Whiteville\, NC 28472
UID:e.2482.6666
SEQUENCE:3
DTSTAMP:20260425T110320Z
URL:https://members.thecolumbuschamber.com/events/details/scc-winter-wonderland-6666
END:VEVENT

END:VCALENDAR
