BEGIN:VCALENDAR
VERSION:2.0
PRODID:-//ChamberMaster//Event Calendar 2.0//EN
METHOD:PUBLISH
X-PUBLISHED-TTL:P3D
REFRESH-INTERVAL:P3D
CALSCALE:GREGORIAN
BEGIN:VEVENT
DTSTART:20230728T130000Z
DTEND:20230728T150000Z
X-MICROSOFT-CDO-ALLDAYEVENT:FALSE
SUMMARY:SCC'S Workforce Training On The Road
DESCRIPTION:SCC'S Workforce Training On The Road
X-ALT-DESC;FMTTYPE=text/html:SCC&#39\;S Workforce Training On The Road
LOCATION:Waccamaw Siouan Tribe Center
UID:e.2482.6787
SEQUENCE:3
DTSTAMP:20260421T154623Z
URL:https://members.thecolumbuschamber.com/events/details/scc-s-workforce-training-on-the-road-6787
END:VEVENT

END:VCALENDAR
