BEGIN:VCALENDAR
VERSION:2.0
PRODID:-//ChamberMaster//Event Calendar 2.0//EN
METHOD:PUBLISH
X-PUBLISHED-TTL:P3D
REFRESH-INTERVAL:P3D
CALSCALE:GREGORIAN
BEGIN:VEVENT
DTSTART:20240925T130000Z
DTEND:20240925T140000Z
X-MICROSOFT-CDO-ALLDAYEVENT:FALSE
SUMMARY:SCC's NEW Greenhouse Ribbon Cutting
DESCRIPTION:You're invited to the Ribbon Cutting Ceremony of SCC's NEW Greenhouse on September 25\, 2024 at 9:00 a.m.
X-ALT-DESC;FMTTYPE=text/html:You&#39\;re invited to the Ribbon Cutting Ceremony of SCC&#39\;s NEW Greenhouse on September 25\, 2024 at 9:00 a.m.
LOCATION:SCC behind Cartrette Building In the event of rain\, the ceremony will move indoors
UID:e.2482.7048
SEQUENCE:3
DTSTAMP:20260420T151121Z
URL:https://members.thecolumbuschamber.com/events/details/scc-s-new-greenhouse-ribbon-cutting-7048
END:VEVENT

END:VCALENDAR
