BEGIN:VCALENDAR
VERSION:2.0
PRODID:-//ChamberMaster//Event Calendar 2.0//EN
METHOD:PUBLISH
X-PUBLISHED-TTL:P3D
REFRESH-INTERVAL:P3D
CALSCALE:GREGORIAN
BEGIN:VEVENT
DTSTART:20221031T220000Z
DTEND:20221101T000000Z
X-MICROSOFT-CDO-ALLDAYEVENT:FALSE
SUMMARY:SCC Hearts Foundation Trunk or Treat
DESCRIPTION:SCC Hearts Foundation Trunk or Treat
X-ALT-DESC;FMTTYPE=text/html:SCC Hearts Foundation Trunk or Treat
LOCATION:Southeastern Community College 4564 Chadbourn Road Whiteville\, NC 28472
UID:e.2482.6625
SEQUENCE:3
DTSTAMP:20260425T164556Z
URL:https://members.thecolumbuschamber.com/events/details/scc-hearts-foundation-trunk-or-treat-6625
END:VEVENT

END:VCALENDAR
