BEGIN:VCALENDAR
VERSION:2.0
PRODID:-//ChamberMaster//Event Calendar 2.0//EN
METHOD:PUBLISH
X-PUBLISHED-TTL:P3D
REFRESH-INTERVAL:P3D
CALSCALE:GREGORIAN
BEGIN:VEVENT
DTSTART:20231213T000000Z
DTEND:20231213T020000Z
X-MICROSOFT-CDO-ALLDAYEVENT:FALSE
SUMMARY:SCC Embers Christmas Show
DESCRIPTION:Southeastern Community College Embers Christmas Show
X-ALT-DESC;FMTTYPE=text/html:Southeastern Community College Embers Christmas Show
LOCATION:Southeastern Community College Auditorium 4564 Chadbourn Highway Whiteville\, NC 28472
UID:e.2482.6879
SEQUENCE:3
DTSTAMP:20260420T012437Z
URL:https://members.thecolumbuschamber.com/events/details/scc-embers-christmas-show-6879
END:VEVENT

END:VCALENDAR
