BEGIN:VCALENDAR
VERSION:2.0
PRODID:-//ChamberMaster//Event Calendar 2.0//EN
METHOD:PUBLISH
X-PUBLISHED-TTL:P3D
REFRESH-INTERVAL:P3D
CALSCALE:GREGORIAN
BEGIN:VEVENT
DTSTART:20231202T140000Z
DTEND:20231202T150000Z
X-MICROSOFT-CDO-ALLDAYEVENT:FALSE
SUMMARY:Santa Claus is coming to town
DESCRIPTION:Saturday\, December 2\, 2023\n\n9:00 am Santa Claus is coming to town (arrival on train\, sponsored by RJ Corman Railroad)\n\nMrs. Claus will be there to welcome Santa.  Keep an eye out for special Disney characters on site for entertainment.
X-ALT-DESC;FMTTYPE=text/html:Saturday\, December 2\, 2023<br />\n9:00 am Santa Claus is coming to town (arrival on train\, sponsored by RJ Corman Railroad)<br />\nMrs. Claus will be there to welcome Santa.&nbsp\; Keep an eye out for special Disney characters on site for entertainment.
LOCATION:Chadbourn Depot Museum 201 West 1st Avenue Chadbourn\, NC 28431
UID:e.2482.6867
SEQUENCE:3
DTSTAMP:20260420T001244Z
URL:https://members.thecolumbuschamber.com/events/details/santa-claus-is-coming-to-town-6867
END:VEVENT

END:VCALENDAR
