BEGIN:VCALENDAR
VERSION:2.0
PRODID:-//ChamberMaster//Event Calendar 2.0//EN
METHOD:PUBLISH
X-PUBLISHED-TTL:P3D
REFRESH-INTERVAL:P3D
CALSCALE:GREGORIAN
BEGIN:VEVENT
DTSTART:20231209T230000Z
DTEND:20231211T000000Z
X-MICROSOFT-CDO-ALLDAYEVENT:FALSE
SUMMARY:Riegelwood Christmas Parade
DESCRIPTION:You're invited to the Riegelwood Christmas Parade on December 9\, 2023  at 6:00 p.m.
X-ALT-DESC;FMTTYPE=text/html:You&#39\;re invited to the Riegelwood Christmas Parade on December 9\, 2023&nbsp\; at 6:00 p.m.
LOCATION:Riegelwood Community Center 27278 Andrew Jackson Highway East Delco\, NC 28436
UID:e.2482.6881
SEQUENCE:3
DTSTAMP:20260420T000707Z
URL:https://members.thecolumbuschamber.com/events/details/riegelwood-christmas-parade-6881
END:VEVENT

END:VCALENDAR
