BEGIN:VCALENDAR
VERSION:2.0
PRODID:-//ChamberMaster//Event Calendar 2.0//EN
METHOD:PUBLISH
X-PUBLISHED-TTL:P3D
REFRESH-INTERVAL:P3D
CALSCALE:GREGORIAN
BEGIN:VEVENT
DTSTART:20230823T150000Z
DTEND:20230823T153000Z
X-MICROSOFT-CDO-ALLDAYEVENT:FALSE
SUMMARY:Ribbon Cutting - Shoreland Health Care & Retirement Center
DESCRIPTION:You're invited to attend a Ribbon Cutting for Shoreland Health Care & Retirement Center on Wednesday\, August 23\, 2023 at 11:00 a.m.
X-ALT-DESC;FMTTYPE=text/html:You&#39\;re invited to attend a Ribbon Cutting for Shoreland Health Care &amp\; Retirement Center on Wednesday\, August 23\, 2023 at 11:00 a.m.
LOCATION:Shoreland Health Care & Retirement Center 200 Flowers Pridgen Road Whiteville\, NC 28472
UID:e.2482.6795
SEQUENCE:3
DTSTAMP:20260421T183913Z
URL:https://members.thecolumbuschamber.com/events/details/ribbon-cutting-shoreland-health-care-retirement-center-6795
END:VEVENT

END:VCALENDAR
