BEGIN:VCALENDAR
VERSION:2.0
PRODID:-//ChamberMaster//Event Calendar 2.0//EN
METHOD:PUBLISH
X-PUBLISHED-TTL:P3D
REFRESH-INTERVAL:P3D
CALSCALE:GREGORIAN
BEGIN:VEVENT
DTSTART:20231005T150000Z
DTEND:20231005T154500Z
X-MICROSOFT-CDO-ALLDAYEVENT:FALSE
SUMMARY:Ribbon Cutting- Pridgen Sanitation
DESCRIPTION:Ribbon Cutting- Pridgen Sanitation \n\n(to be held at Chamber office)
X-ALT-DESC;FMTTYPE=text/html:Ribbon Cutting- Pridgen Sanitation&nbsp\;<br />\n(to be held at Chamber office)
LOCATION:601 South Madison Street Whiteville\, NC 28472
UID:e.2482.6806
SEQUENCE:3
DTSTAMP:20260423T035405Z
URL:https://members.thecolumbuschamber.com/events/details/ribbon-cutting-pridgen-sanitation-6806
END:VEVENT

END:VCALENDAR
