BEGIN:VCALENDAR
VERSION:2.0
PRODID:-//ChamberMaster//Event Calendar 2.0//EN
METHOD:PUBLISH
X-PUBLISHED-TTL:P3D
REFRESH-INTERVAL:P3D
CALSCALE:GREGORIAN
BEGIN:VEVENT
DTSTART:20230210T160000Z
DTEND:20230210T164500Z
X-MICROSOFT-CDO-ALLDAYEVENT:FALSE
SUMMARY:Ribbon Cutting - Madison Street Antiques
DESCRIPTION:You're invited to attend a Grand Opening/Ribbon Cutting for Madison Street Antiques on Friday\, February 10\, 2023 at 11:00 a.m.\n\n\n\nPlease join us to show support of our Chamber members!
X-ALT-DESC;FMTTYPE=text/html:You&#39\;re invited to attend a Grand Opening/Ribbon Cutting for Madison Street Antiques on Friday\, February 10\, 2023 at 11:00 a.m.<br />\n<br />\nPlease join us to show support of our Chamber members!
LOCATION:Madison Street Antiques 815 South Madison Street Whiteville\, NC 28472
UID:e.2482.6670
SEQUENCE:3
DTSTAMP:20260425T105253Z
URL:https://members.thecolumbuschamber.com/events/details/ribbon-cutting-madison-street-antiques-6670
END:VEVENT

END:VCALENDAR
