BEGIN:VCALENDAR
VERSION:2.0
PRODID:-//ChamberMaster//Event Calendar 2.0//EN
METHOD:PUBLISH
X-PUBLISHED-TTL:P3D
REFRESH-INTERVAL:P3D
CALSCALE:GREGORIAN
BEGIN:VEVENT
DTSTART:20240710T180000Z
DTEND:20240710T190000Z
X-MICROSOFT-CDO-ALLDAYEVENT:FALSE
SUMMARY:Ribbon Cutting - Liberty Commons of Columbus County
DESCRIPTION:You're invited to a Ribbon Cutting for Liberty Commons of Columbus County renovated Memory Care Unit!
X-ALT-DESC;FMTTYPE=text/html:You&#39\;re invited to a Ribbon Cutting for Liberty Commons of Columbus County renovated Memory Care Unit!
LOCATION:1402 Pinckney Street Whiteville\, NC 28472
UID:e.2482.6995
SEQUENCE:3
DTSTAMP:20260420T174105Z
URL:https://members.thecolumbuschamber.com/events/details/ribbon-cutting-liberty-commons-of-columbus-county-6995
END:VEVENT

END:VCALENDAR
