BEGIN:VCALENDAR
VERSION:2.0
PRODID:-//ChamberMaster//Event Calendar 2.0//EN
METHOD:PUBLISH
X-PUBLISHED-TTL:P3D
REFRESH-INTERVAL:P3D
CALSCALE:GREGORIAN
BEGIN:VEVENT
DTSTART:20260213T160000Z
DTEND:20260213T163000Z
X-MICROSOFT-CDO-ALLDAYEVENT:FALSE
SUMMARY:Ribbon Cutting Kiwanis Cottage
DESCRIPTION:Join us for the re-opening of Kiwanis Cottage at Boys & Girls Homes
X-ALT-DESC;FMTTYPE=text/html:Join us for the re-opening of Kiwanis Cottage at Boys &amp\; Girls Homes&nbsp\;
LOCATION:Boys & Girls Homes Lake Waccamaw\, NC 28450
UID:e.2482.7297
SEQUENCE:3
DTSTAMP:20260422T142144Z
URL:https://members.thecolumbuschamber.com/events/details/ribbon-cutting-kiwanis-cottage-7297
END:VEVENT

END:VCALENDAR
