BEGIN:VCALENDAR
VERSION:2.0
PRODID:-//ChamberMaster//Event Calendar 2.0//EN
METHOD:PUBLISH
X-PUBLISHED-TTL:P3D
REFRESH-INTERVAL:P3D
CALSCALE:GREGORIAN
BEGIN:VEVENT
DTSTART:20230821T150000Z
DTEND:20230821T153000Z
X-MICROSOFT-CDO-ALLDAYEVENT:FALSE
SUMMARY:Ribbon Cutting - Image Supply of Whiteville
DESCRIPTION:You're invited to attend a Ribbon Cutting for Image Supply of Whiteville on\n\nMonday\, August 21\, 2023 at 11:00 a.m.
X-ALT-DESC;FMTTYPE=text/html:You&#39\;re invited to attend a Ribbon Cutting for Image Supply of Whiteville on<br />\nMonday\, August 21\, 2023 at 11:00 a.m.
LOCATION:Image Supply of Whiteville 210 West Burkhead Street Whiteville\, NC 28472
UID:e.2482.6791
SEQUENCE:3
DTSTAMP:20260421T172053Z
URL:https://members.thecolumbuschamber.com/events/details/ribbon-cutting-image-supply-of-whiteville-6791
END:VEVENT

END:VCALENDAR
