BEGIN:VCALENDAR
VERSION:2.0
PRODID:-//ChamberMaster//Event Calendar 2.0//EN
METHOD:PUBLISH
X-PUBLISHED-TTL:P3D
REFRESH-INTERVAL:P3D
CALSCALE:GREGORIAN
BEGIN:VEVENT
DTSTART:20221215T180000Z
DTEND:20221215T190000Z
X-MICROSOFT-CDO-ALLDAYEVENT:FALSE
SUMMARY:Ribbon Cutting - Holy Cow Kreations
DESCRIPTION:You're invited to attend a Ribbon Cutting for Holy Cow Kreations on Thursday\, December 15\, 2022 at 1:00 p.m.
X-ALT-DESC;FMTTYPE=text/html:You&#39\;re invited to attend a Ribbon Cutting for Holy Cow Kreations on Thursday\, December 15\, 2022 at 1:00 p.m.
LOCATION:Holy Cow Kreations 624 South Madison Street Whiteville\,NC 28472
UID:e.2482.6656
SEQUENCE:3
DTSTAMP:20260425T134523Z
URL:https://members.thecolumbuschamber.com/events/details/ribbon-cutting-holy-cow-kreations-6656
END:VEVENT

END:VCALENDAR
