BEGIN:VCALENDAR
VERSION:2.0
PRODID:-//ChamberMaster//Event Calendar 2.0//EN
METHOD:PUBLISH
X-PUBLISHED-TTL:P3D
REFRESH-INTERVAL:P3D
CALSCALE:GREGORIAN
BEGIN:VEVENT
DTSTART:20221027T150000Z
DTEND:20221028T034500Z
X-MICROSOFT-CDO-ALLDAYEVENT:FALSE
SUMMARY:Ribbon Cutting Guideway Senior Center
DESCRIPTION:You are invited to the Ribbon Cutting for Guideway Senior Center on Thursday\, October 27\, 2022 at 11:00 a.m.
X-ALT-DESC;FMTTYPE=text/html:You are invited to the Ribbon Cutting for Guideway Senior Center on Thursday\, October 27\, 2022 at 11:00 a.m.
LOCATION:Guideway Senior Center 11570 Swamp Fox Highway East\, Building C Tabor City\, NC 28463
UID:e.2482.6636
SEQUENCE:3
DTSTAMP:20260425T164535Z
URL:https://members.thecolumbuschamber.com/events/details/ribbon-cutting-guideway-senior-center-6636
END:VEVENT

END:VCALENDAR
