BEGIN:VCALENDAR
VERSION:2.0
PRODID:-//ChamberMaster//Event Calendar 2.0//EN
METHOD:PUBLISH
X-PUBLISHED-TTL:P3D
REFRESH-INTERVAL:P3D
CALSCALE:GREGORIAN
BEGIN:VEVENT
DTSTART:20230216T160000Z
DTEND:20230216T164500Z
X-MICROSOFT-CDO-ALLDAYEVENT:FALSE
SUMMARY:Ribbon Cutting - CenterWell Home Health
DESCRIPTION:You're invited to attend a Ribbon Cutting for CenterWell Home Health on Thursday\, February 16\, 2023 at 11:00 a.m.
X-ALT-DESC;FMTTYPE=text/html:You&#39\;re invited to attend a Ribbon Cutting for CenterWell Home Health on Thursday\, February 16\, 2023 at 11:00 a.m.
LOCATION:CenterWell Home Health 27385 Andrew Jackson Highway East\, Suite B Delco\, NC 28436
UID:e.2482.6661
SEQUENCE:3
DTSTAMP:20260425T110427Z
URL:https://members.thecolumbuschamber.com/events/details/ribbon-cutting-centerwell-home-health-6661
END:VEVENT

END:VCALENDAR
