BEGIN:VCALENDAR
VERSION:2.0
PRODID:-//ChamberMaster//Event Calendar 2.0//EN
METHOD:PUBLISH
X-PUBLISHED-TTL:P3D
REFRESH-INTERVAL:P3D
CALSCALE:GREGORIAN
BEGIN:VEVENT
DTSTART:20230803T210000Z
DTEND:20230803T223000Z
X-MICROSOFT-CDO-ALLDAYEVENT:FALSE
SUMMARY:Ribbon Cutting & Business 2 Business After Hours
DESCRIPTION:Crown Barbecue invites you to the Ribbon Cutting and Business 2 Business After Hours event on Thursday\, August 3\, 2023 from 5:00 pm - 6:30 pm
X-ALT-DESC;FMTTYPE=text/html:Crown Barbecue invites you to the Ribbon Cutting and Business 2 Business After Hours event on Thursday\, August 3\, 2023 from 5:00 pm - 6:30 pm
LOCATION:Crown Barbecue 11155 New Britton Highway East Whiteville\, NC 28472
UID:e.2482.6794
SEQUENCE:3
DTSTAMP:20260421T172013Z
URL:https://members.thecolumbuschamber.com/events/details/ribbon-cutting-business-2-business-after-hours-6794
END:VEVENT

END:VCALENDAR
