BEGIN:VCALENDAR
VERSION:2.0
PRODID:-//ChamberMaster//Event Calendar 2.0//EN
METHOD:PUBLISH
X-PUBLISHED-TTL:P3D
REFRESH-INTERVAL:P3D
CALSCALE:GREGORIAN
BEGIN:VEVENT
DTSTART:20231012T150000Z
DTEND:20231012T154500Z
X-MICROSOFT-CDO-ALLDAYEVENT:FALSE
SUMMARY:Ribbon Cutting - Block's Bar & Grill
DESCRIPTION:You're invited to attend a Ribbon Cutting for Block's Bar & Grill at 11:00 a.m.
X-ALT-DESC;FMTTYPE=text/html:You&#39\;re invited to attend a Ribbon Cutting for Block&#39\;s Bar &amp\; Grill at 11:00 a.m.
LOCATION:Block's Bar & Grill 1032 South Madison Street Whiteville\, NC 28472
UID:e.2482.6821
SEQUENCE:3
DTSTAMP:20260423T035451Z
URL:https://members.thecolumbuschamber.com/events/details/ribbon-cutting-block-s-bar-grill-6821
END:VEVENT

END:VCALENDAR
