BEGIN:VCALENDAR
VERSION:2.0
PRODID:-//ChamberMaster//Event Calendar 2.0//EN
METHOD:PUBLISH
X-PUBLISHED-TTL:P3D
REFRESH-INTERVAL:P3D
CALSCALE:GREGORIAN
BEGIN:VEVENT
DTSTART:20221216T213000Z
DTEND:20221216T230000Z
X-MICROSOFT-CDO-ALLDAYEVENT:FALSE
SUMMARY:Ribbon Cutting and Open House
DESCRIPTION:You're invited to join us on Friday\, December 16\, 2022 from 4:30 p.m. - 6:00 p.m. at Cocktails Hair Bar & Spa for their open house and ribbon cutting.
X-ALT-DESC;FMTTYPE=text/html:You&#39\;re invited to join us on Friday\, December 16\, 2022 from 4:30 p.m. - 6:00 p.m. at Cocktails Hair Bar &amp\; Spa for their open house and ribbon cutting.
LOCATION:Cocktails Hair Bar & Spa 128 West Main Street Whiteville\, NC 28472
UID:e.2482.6653
SEQUENCE:3
DTSTAMP:20260425T134328Z
URL:https://members.thecolumbuschamber.com/events/details/ribbon-cutting-and-open-house-6653
END:VEVENT

END:VCALENDAR
