BEGIN:VCALENDAR
VERSION:2.0
PRODID:-//ChamberMaster//Event Calendar 2.0//EN
METHOD:PUBLISH
X-PUBLISHED-TTL:P3D
REFRESH-INTERVAL:P3D
CALSCALE:GREGORIAN
BEGIN:VEVENT
DTSTART:20230726T150000Z
DTEND:20230726T153000Z
X-MICROSOFT-CDO-ALLDAYEVENT:FALSE
SUMMARY:Ribbon Cutting - Amazon Hub
DESCRIPTION:You're invited to a Ribbon Cutting on July\, 26\, 2023 at 11:00 a.m. for Amazon Hub.
X-ALT-DESC;FMTTYPE=text/html:You&#39\;re invited to a Ribbon Cutting on July\, 26\, 2023 at 11:00 a.m. for Amazon Hub.
LOCATION:Columbus County Chamber of Commerce & Tourism 601 S. Madison Street Whiteville\, NC 28472
UID:e.2482.6756
SEQUENCE:3
DTSTAMP:20260421T154620Z
URL:https://members.thecolumbuschamber.com/events/details/ribbon-cutting-amazon-hub-6756
END:VEVENT

END:VCALENDAR
