BEGIN:VCALENDAR
VERSION:2.0
PRODID:-//ChamberMaster//Event Calendar 2.0//EN
METHOD:PUBLISH
X-PUBLISHED-TTL:P3D
REFRESH-INTERVAL:P3D
CALSCALE:GREGORIAN
BEGIN:VEVENT
DTSTART:20221027T170000Z
DTEND:20221027T180000Z
X-MICROSOFT-CDO-ALLDAYEVENT:FALSE
SUMMARY:Ribbon Cutting - Allstate Aaron Roehm
DESCRIPTION:You're invited to attend a Grand Opening/Ribbon Cutting for Allstate agent Aaron Roehm on Thursday\, October 27\, 2022 at 1:00 p.m.
X-ALT-DESC;FMTTYPE=text/html:You&#39\;re invited to attend a Grand Opening/Ribbon Cutting for Allstate agent Aaron Roehm on Thursday\, October 27\, 2022 at 1:00 p.m.
LOCATION:Columbus Chamber of Commerce & Tourism 601 South Madison Street Whiteville\, NC 28472
UID:e.2482.6618
SEQUENCE:3
DTSTAMP:20260425T164332Z
URL:https://members.thecolumbuschamber.com/events/details/ribbon-cutting-allstate-aaron-roehm-6618
END:VEVENT

END:VCALENDAR
