BEGIN:VCALENDAR
VERSION:2.0
PRODID:-//ChamberMaster//Event Calendar 2.0//EN
METHOD:PUBLISH
X-PUBLISHED-TTL:P3D
REFRESH-INTERVAL:P3D
CALSCALE:GREGORIAN
BEGIN:VEVENT
DTSTART:20230803T150000Z
DTEND:20230803T153000Z
X-MICROSOFT-CDO-ALLDAYEVENT:FALSE
SUMMARY:Ribbon Cutting - A New Beginning Home Care Agency
DESCRIPTION:You're invited to attend a Ribbon Cutting/Grand Opening  for A New Beginning Home Care Agency located in Tabor City.
X-ALT-DESC;FMTTYPE=text/html:You&#39\;re invited to attend a Ribbon Cutting/Grand Opening&nbsp\; for A New Beginning Home Care Agency located in Tabor City.
LOCATION:A New Beginning Home Care Agency 211 East 5th Street Tabor City\, NC 28463
UID:e.2482.6781
SEQUENCE:3
DTSTAMP:20260421T172054Z
URL:https://members.thecolumbuschamber.com/events/details/ribbon-cutting-a-new-beginning-home-care-agency-6781
END:VEVENT

END:VCALENDAR
