BEGIN:VCALENDAR
VERSION:2.0
PRODID:-//ChamberMaster//Event Calendar 2.0//EN
METHOD:PUBLISH
X-PUBLISHED-TTL:P3D
REFRESH-INTERVAL:P3D
CALSCALE:GREGORIAN
BEGIN:VEVENT
DTSTART:20230706T180000Z
DTEND:20230706T183000Z
X-MICROSOFT-CDO-ALLDAYEVENT:FALSE
SUMMARY:Ribbon Cuting - Columbus County Playground
DESCRIPTION:You're invited to attend a Grand Opening/Ribbon Cutting for the Columbus County Playground located beside the Columbus County Fitness Court.
X-ALT-DESC;FMTTYPE=text/html:You&#39\;re invited to attend a Grand Opening/Ribbon Cutting for the Columbus County Playground located beside the Columbus County Fitness Court.
LOCATION:Columbus County Playground 131 Government Complex Road Whiteville\, NC 28472
UID:e.2482.6768
SEQUENCE:3
DTSTAMP:20260421T154753Z
URL:https://members.thecolumbuschamber.com/events/details/ribbon-cuting-columbus-county-playground-6768
END:VEVENT

END:VCALENDAR
