BEGIN:VCALENDAR
VERSION:2.0
PRODID:-//ChamberMaster//Event Calendar 2.0//EN
METHOD:PUBLISH
X-PUBLISHED-TTL:P3D
REFRESH-INTERVAL:P3D
CALSCALE:GREGORIAN
BEGIN:VEVENT
DTSTART:20231021T230000Z
DTEND:20231022T010000Z
X-MICROSOFT-CDO-ALLDAYEVENT:FALSE
SUMMARY:Ram Jams at the MazeCraze
DESCRIPTION:Get ready to celebrate the season in style at Ram Jams at the MazeCraze featuring Cannan Cox - the ultimate fall festival concert experience right here in Columbus County!\n\n\n\nJoin uson October 21 for an unforgettable evening of live music\, delicious food truck delights\, thrillling games\, and so much more.
X-ALT-DESC;FMTTYPE=text/html:Get ready to celebrate the season in style at Ram Jams at the MazeCraze featuring Cannan Cox - the ultimate fall festival concert experience right here in Columbus County!<br />\n<br />\nJoin uson October 21 for an unforgettable evening of live music\, delicious food truck delights\, thrillling games\, and so much more.
LOCATION:Galloway Farms Home of the Maze Craze 370 Artesia Road Hallsboro\, NC 28442
UID:e.2482.6813
SEQUENCE:3
DTSTAMP:20260423T035502Z
URL:https://members.thecolumbuschamber.com/events/details/ram-jams-at-the-mazecraze-6813
END:VEVENT

END:VCALENDAR
