BEGIN:VCALENDAR
VERSION:2.0
PRODID:-//ChamberMaster//Event Calendar 2.0//EN
METHOD:PUBLISH
X-PUBLISHED-TTL:P3D
REFRESH-INTERVAL:P3D
CALSCALE:GREGORIAN
BEGIN:VEVENT
DTSTART:20221028T210000Z
DTEND:20221028T230000Z
X-MICROSOFT-CDO-ALLDAYEVENT:FALSE
SUMMARY:Pine Tree Festival Fellowship Dinner
DESCRIPTION:Pine Tree Festival Fellowship Dinner
X-ALT-DESC;FMTTYPE=text/html:Pine Tree Festival Fellowship Dinner
LOCATION:Bolton Senior Center 15354 Sam's Pott Highway Bolton\, NC 28423
UID:e.2482.6613
SEQUENCE:3
DTSTAMP:20260425T164331Z
URL:https://members.thecolumbuschamber.com/events/details/pine-tree-festival-fellowship-dinner-6613
END:VEVENT

END:VCALENDAR
