BEGIN:VCALENDAR
VERSION:2.0
PRODID:-//ChamberMaster//Event Calendar 2.0//EN
METHOD:PUBLISH
X-PUBLISHED-TTL:P3D
REFRESH-INTERVAL:P3D
CALSCALE:GREGORIAN
BEGIN:VEVENT
DTSTART:20231007T140000Z
DTEND:20231007T220000Z
X-MICROSOFT-CDO-ALLDAYEVENT:FALSE
SUMMARY:Pine Tree Festival
DESCRIPTION:The town of Bolton pays tribute to its heritage as a timber town with the annual Pine Tree Festival. The family-friendly festival is held in October and captures the essence of this tiny community with a parade\, live entertainment\, food vendors and arts & crafts.
X-ALT-DESC;FMTTYPE=text/html:<span style="color:black\;"><span style="font-family:times new roman\,serif\;"><span style="font-size:12.0pt\;">The town of Bolton pays tribute to its heritage as a timber town with the annual Pine Tree Festival. The family-friendly festival is held in October and captures the essence of this tiny community with a parade\, live entertainment\, food vendors and arts &amp\; crafts.</span></span></span>
LOCATION:Town of Bolton 221 South 9th Street Bolton\, NC 28423
UID:e.2482.6765
SEQUENCE:3
DTSTAMP:20260423T035227Z
URL:https://members.thecolumbuschamber.com/events/details/pine-tree-festival-6765
END:VEVENT

END:VCALENDAR
