BEGIN:VCALENDAR
VERSION:2.0
PRODID:-//ChamberMaster//Event Calendar 2.0//EN
METHOD:PUBLISH
X-PUBLISHED-TTL:P3D
REFRESH-INTERVAL:P3D
CALSCALE:GREGORIAN
BEGIN:VEVENT
DTSTART;VALUE=DATE:20230617
DTEND;VALUE=DATE:20230618
TRANSP:TRANSPARENT
X-MICROSOFT-CDO-ALLDAYEVENT:TRUE
SUMMARY:Old Fashion Farm Day
DESCRIPTION:Columbus County Community Farmers Market\n\nOld Fashion Farm Day
X-ALT-DESC;FMTTYPE=text/html:Columbus County Community Farmers Market<br />\nOld Fashion Farm Day
LOCATION:132 Government Complex Road Whiteville\, NC 28472
UID:e.2482.6741
SEQUENCE:3
DTSTAMP:20260421T154907Z
URL:https://members.thecolumbuschamber.com/events/details/old-fashion-farm-day-6741
END:VEVENT

END:VCALENDAR
