BEGIN:VCALENDAR
VERSION:2.0
PRODID:-//ChamberMaster//Event Calendar 2.0//EN
METHOD:PUBLISH
X-PUBLISHED-TTL:P3D
REFRESH-INTERVAL:P3D
CALSCALE:GREGORIAN
BEGIN:VEVENT
DTSTART:20231025T233000Z
DTEND:20231026T013000Z
X-MICROSOFT-CDO-ALLDAYEVENT:FALSE
SUMMARY:Ofrenda
DESCRIPTION:One of Mexico's most beloved holidays\, Dia de los Muertos celebrates the lives of loved ones who have passed on by building an Ofrenda\, a home altar decorated with a collection of objects\, candles\, marigold flowers and photos of our dearly departed. Ofrenda: A Dia de los Muertos Celebration features traditional music and dance from different regions\, including "La Bruja" from Veracruz\, "Dance de Tare Ambakitis" from Nayarit\, as well as the amazing music from the Disney movie "Coco". All this is interspersed with tributes to great Mexican artists such as Juan Gabriel\, Selena\, Jose Infante\, and Alejandro Fernandez. The live Mariachi and our original traditional costumes all contribute to create an unforgettable visual and musical experience. Ofrenda is a show for the entire family. Entertaining and fun for the kids\, moving and exciting for the grown up\, also sweet and filled with memories for our Abuelitas and Abuelitos.
X-ALT-DESC;FMTTYPE=text/html:One of Mexico&rsquo\;s most beloved holidays\, Dia de los Muertos celebrates the lives of loved ones who have passed on by building an Ofrenda\, a home altar decorated with a collection of objects\, candles\, marigold flowers and photos of our dearly departed. Ofrenda: A Dia de los Muertos Celebration features traditional music and dance from different regions\, including &ldquo\;La Bruja&rdquo\; from Veracruz\, &ldquo\;Dance de Tare Ambakitis&rdquo\; from Nayarit\, as well as the amazing music from the Disney movie &ldquo\;Coco&rdquo\;. All this is interspersed with tributes to great Mexican artists such as Juan Gabriel\, Selena\, Jose Infante\, and Alejandro Fernandez. The live Mariachi and our original traditional costumes all contribute to create an unforgettable visual and musical experience. Ofrenda is a show for the entire family. Entertaining and fun for the kids\, moving and exciting for the grown up\, also sweet and filled with memories for our Abuelitas and Abuelitos.
LOCATION:Givens Performance Art Center
UID:e.2482.6811
SEQUENCE:3
DTSTAMP:20260423T035227Z
URL:https://members.thecolumbuschamber.com/events/details/ofrenda-10-25-2023-6811
END:VEVENT

END:VCALENDAR
